View In:
  ArcGIS JavaScript
  ArcGIS Online Map Viewer
  ArcGIS Earth
  ArcMap
View Footprint In:
  ArcGIS Online Map Viewer
Service Description:  ORTOFOTOMAPAS2012 
Name:  ORTOFOTOMAPAS2012 
Description:  
Single Fused Map Cache:  true
Tile Info: 
- Height: 256
- Width: 256
- DPI: 96
- 
Levels of Detail:  11
- Format: Mixed
- Compression Quality: 75.0
- LERC Error: NaN
- Origin: X:  -5623200.0 
 Y:  5609400.0
 
- Spatial Reference: 3763
 (3763)
 
Extent:
XMin: -48000
YMin: -170000
XMax: 92000
YMax: -70000
Spatial Reference: 3763
 (3763)
 
Initial Extent:
XMin: -48000
YMin: -170000
XMax: 92000
YMax: -70000
Spatial Reference: 3763
 (3763)
 
Full Extent:
XMin: -48000
YMin: -170000
XMax: 92000
YMax: -70000
Spatial Reference: 3763
 (3763)
 
Pixel Size X: 0.5 
Pixel Size Y:  0.5 
Band Count: 3
Pixel Type: U8
RasterFunction Infos:  {"rasterFunctionInfos": [{
 "name": "None",
 "description": "",
 "help": ""
}]} 
Mensuration Capabilities: Basic
Has Histograms:  false
Has Colormap:  false
Has Multi Dimensions :  false
Rendering Rule: 
Min Scale:  1000000
Max Scale:  1000
Copyright Text:  
Service Data Type:  esriImageServiceDataTypeRGB 
Min Values:  N/A 
Max Values:  N/A 
Mean Values:  N/A 
Standard Deviation Values:  N/A 
Object ID Field:  
Fields: 
None
Default Mosaic Method:  Center 
Allowed Mosaic Methods:  
SortField:  
SortValue:  null 
Mosaic Operator:  First 
Default Compression Quality:  75 
Default Resampling Method:  Bilinear 
Max Record Count:  null 
Max Image Height:  4100 
Max Image Width:  15000 
Max Download Image Count:  null 
Max Mosaic Image Count:  null 
Allow Raster Function:  true 
Allow Compute TiePoints:  false 
Supports Statistics:  false 
Supports Advanced Queries:  false 
Use StandardizedQueries:  true 
Raster Type Infos: 
Name: Raster Dataset
Description: Supports all ArcGIS Raster Datasets
Help: 
Has Raster Attribute Table: false 
Edit Fields Info:  null 
Ownership Based AccessControl For Rasters:  null 
Child Resources:
  
Info
  Key Properties
  Legend
  MultiDimensionalInfo
  rasterFunctionInfos
Supported Operations:
  
Export Image
  Identify
  Measure
  Compute Histograms
  Compute Statistics Histograms
  Get Samples
  Compute Class Statistics
  Query Boundary